BEGIN:VCALENDAR
VERSION:2.0
PRODID:-//PYVOBJECT//NONSGML Version 1//EN
BEGIN:VEVENT
UID:23284:3024
DTSTART:20150424T000000
DTEND:20150531T000000
DESCRIPTION:\n	Shooting Aktion!\n60 Min. um &euro\;60\,- n&auml\;here Infos
  unter www.simonaknapp.at\n
DTSTAMP:20260423T074817Z
SUMMARY:Shooting Aktion
END:VEVENT
END:VCALENDAR
