BEGIN:VCALENDAR
VERSION:2.0
PRODID:-//PYVOBJECT//NONSGML Version 1//EN
BEGIN:VEVENT
UID:23284:3025
DTSTART:20150424T000000
DTEND:20151231T000000
DESCRIPTION:\n	Fotografin Simona Knapp!\nKontaktieren Sie mich unter 0676 9
 684819! Ich freue mich auf Ihren Anruf!
DTSTAMP:20260423T074842Z
SUMMARY:Neu in Leonstein
END:VEVENT
END:VCALENDAR
